BEGIN:VCALENDAR
VERSION:2.0
PRODID:-//Relief Angels - ECPv6.15.20//NONSGML v1.0//EN
CALSCALE:GREGORIAN
METHOD:PUBLISH
X-WR-CALNAME:Relief Angels
X-ORIGINAL-URL:https://relief-angels.org
X-WR-CALDESC:Events for Relief Angels
REFRESH-INTERVAL;VALUE=DURATION:PT1H
X-Robots-Tag:noindex
X-PUBLISHED-TTL:PT1H
BEGIN:VTIMEZONE
TZID:America/Los_Angeles
BEGIN:DAYLIGHT
TZOFFSETFROM:-0800
TZOFFSETTO:-0700
TZNAME:PDT
DTSTART:20250309T100000
END:DAYLIGHT
BEGIN:STANDARD
TZOFFSETFROM:-0700
TZOFFSETTO:-0800
TZNAME:PST
DTSTART:20251102T090000
END:STANDARD
BEGIN:DAYLIGHT
TZOFFSETFROM:-0800
TZOFFSETTO:-0700
TZNAME:PDT
DTSTART:20260308T100000
END:DAYLIGHT
BEGIN:STANDARD
TZOFFSETFROM:-0700
TZOFFSETTO:-0800
TZNAME:PST
DTSTART:20261101T090000
END:STANDARD
BEGIN:DAYLIGHT
TZOFFSETFROM:-0800
TZOFFSETTO:-0700
TZNAME:PDT
DTSTART:20270314T100000
END:DAYLIGHT
BEGIN:STANDARD
TZOFFSETFROM:-0700
TZOFFSETTO:-0800
TZNAME:PST
DTSTART:20271107T090000
END:STANDARD
END:VTIMEZONE
BEGIN:VTIMEZONE
TZID:UTC
BEGIN:STANDARD
TZOFFSETFROM:+0000
TZOFFSETTO:+0000
TZNAME:UTC
DTSTART:20250101T000000
END:STANDARD
END:VTIMEZONE
BEGIN:VEVENT
DTSTART;TZID=America/Los_Angeles:20260307T110000
DTEND;TZID=America/Los_Angeles:20260307T140000
DTSTAMP:20260423T192642
CREATED:20260219T215910Z
LAST-MODIFIED:20260219T215910Z
UID:886-1772881200-1772892000@relief-angels.org
SUMMARY:Adoption Event 3/7
DESCRIPTION:Come meet your next furry family member!
URL:https://relief-angels.org/event/adoption-event-3-7/
LOCATION:Tractor Supply\, 3834 S 6th St\, Klamath Falls\, OR\, 97603\, United States
CATEGORIES:Adoption Event
END:VEVENT
BEGIN:VEVENT
DTSTART;TZID=UTC:20260314T143000
DTEND;TZID=UTC:20260314T173000
DTSTAMP:20260423T192642
CREATED:20260302T225708Z
LAST-MODIFIED:20260302T225708Z
UID:939-1773498600-1773509400@relief-angels.org
SUMMARY:Whiskey & Wags
DESCRIPTION:
URL:https://relief-angels.org/event/whiskey-wags/
LOCATION:Whiskey Bandit Saloon\, 617 Main St\, Klamath Falls\, Oregon\, 97601
CATEGORIES:Adoption Event
ORGANIZER;CN="Relief Angels - The Nicholas Project":MAILTO:Contact@Relief-Angels.org
END:VEVENT
BEGIN:VEVENT
DTSTART;TZID=America/Los_Angeles:20260324T110000
DTEND;TZID=America/Los_Angeles:20260324T140000
DTSTAMP:20260423T192642
CREATED:20260219T220014Z
LAST-MODIFIED:20260219T220014Z
UID:888-1774350000-1774360800@relief-angels.org
SUMMARY:Adoption Event 3/24
DESCRIPTION:Come meet your next furry family member!
URL:https://relief-angels.org/event/adoption-event-3-24/
LOCATION:PetSmart in Medford\, 3279 Crater Lake Hwy\, Medford\, OR\, 97504\, United States
CATEGORIES:Adoption Event
END:VEVENT
BEGIN:VEVENT
DTSTART;TZID=UTC:20260327T150000
DTEND;TZID=UTC:20260327T180000
DTSTAMP:20260423T192642
CREATED:20260302T225910Z
LAST-MODIFIED:20260302T230511Z
UID:943-1774623600-1774634400@relief-angels.org
SUMMARY:Adoption Event 3/27
DESCRIPTION:
URL:https://relief-angels.org/event/adoption-event-3/
LOCATION:Coastal Farm & Ranch\, 1776 Avalon St\, Klamath Falls\, Oregon\, 97601
CATEGORIES:Adoption Event
ORGANIZER;CN="Relief Angels - The Nicholas Project":MAILTO:Contact@Relief-Angels.org
END:VEVENT
BEGIN:VEVENT
DTSTART;TZID=America/Los_Angeles:20260328T110000
DTEND;TZID=America/Los_Angeles:20260328T140000
DTSTAMP:20260423T192642
CREATED:20260219T220100Z
LAST-MODIFIED:20260219T220100Z
UID:890-1774695600-1774706400@relief-angels.org
SUMMARY:Adoption Event 3/28
DESCRIPTION:Come meet your next furry family member!
URL:https://relief-angels.org/event/adoption-event-3-28/
LOCATION:PetSmart in Medford\, 3279 Crater Lake Hwy\, Medford\, OR\, 97504\, United States
CATEGORIES:Adoption Event
ORGANIZER;CN="Relief Angels - The Nicholas Project":MAILTO:Contact@Relief-Angels.org
END:VEVENT
END:VCALENDAR